BEGIN:VCALENDAR
VERSION:2.0
PRODID:-//wp-events-plugin.com//7.2.3.1//EN
TZID:Europe/Berlin
X-WR-TIMEZONE:Europe/Berlin
BEGIN:VEVENT
UID:3@foto-stadel.de
DTSTART;TZID=Europe/Berlin:20191122T190000
DTEND;TZID=Europe/Berlin:20191122T223000
DTSTAMP:20191118T160648Z
URL:https://www.foto-stadel.de/events/blitzlicht-allgaeu-tfp-kennenlerntre
 ffen-shooting/
SUMMARY:Blitzlicht Allgäu TfP Kennenlerntreffen / Shooting
DESCRIPTION:Hallo zusammen\,\n\nwir wollten seit längerem ein Kennenlerntr
 effen / Shooting mit Euch als Fotografen\, Models und Visagisten machen.\n
 \nNun da unser Eventkalender auf der Seite Einsatzbereit ist möchten wir 
 dies gerne mal versuchen und hoffen das Interesse besteht und wir uns mal 
 persönlich kennen lernen können!\n\nWir würden uns gerne in Sonthofen i
 m Gasthof „Der Landwirt“ (ehem. Gasthof Fluhenstein) treffen - da kön
 nen wir einen kleinen Saal nutzen in dem man auch ein bisschen Equipment a
 ufbauen kann damit es nicht nur ein gemütliches Kennenlernen ist bei dem 
 man sehr gut essen kann sondern evtl. noch ein bißchen "arbeiten" kann \;
 -)\n\nWir hoffen Ihr seid dabei.....\n\nViele Grüße Manni &amp\; Edi&nbs
 p\;\n\n[ngg src="albums" ids="6" display="basic_compact_album"]&nbsp\;
CATEGORIES:Blitzlicht Allgäu - TfP-Eventkalender
LOCATION:Der Landwirt (ehem. Fluhenstein)\, Fluhensteinweg 22\, Sonthofen\,
  Bayern\, 87527\, Oberallgäu\, Deutschland
X-APPLE-STRUCTURED-LOCATION;VALUE=URI;X-ADDRESS=Fluhensteinweg 22\, Sonthof
 en\, Bayern\, 87527\, Oberallgäu\, Deutschland;X-APPLE-RADIUS=100;X-TITLE
 =Der Landwirt (ehem. Fluhenstein):geo:0,0
END:VEVENT
BEGIN:VEVENT
UID:4@foto-stadel.de
DTSTART;TZID=Europe/Berlin:20200201T190000
DTEND;TZID=Europe/Berlin:20200201T233000
DTSTAMP:20200201T101428Z
URL:https://www.foto-stadel.de/events/2-blitzlicht-allgaeu-gruppentreffen/
SUMMARY:2. Blitzlicht Allgäu Gruppentreffen
DESCRIPTION:Hallo ihr Lieben\,\n\nPeter meinte es ist mal wieder Zeit für 
 ein Gruppentreffen und ich muss sagen er hat recht \;-)\n\nDas letzte Tref
 fen ist schon ein paar Tage her und da es eine echt tolle Veranstaltung wa
 r wollen wir das natürlich wiederholen.\n\nDie Gruppe ist gewachsen und s
 omit gibt es vielleicht diesmal noch ein paar neue Gesichter beim Treffen 
 - wir würden uns ganz arg darüber freuen!!!\n\nGewohnt zwanglos\, nett z
 usammensitzen\, essen\, plaudern und vielleicht noch das eine oder andere 
 Foto machen\, Shootings vereinbaren und sich einfach noch besser kennenler
 nen damit so tolle Shootings wie das am Walmendinger Horn öfter stattfind
 en....\n\nNicht jeder für sich sondern gemeinsam - weil fotografieren Spa
 ß machen soll \;-)\n\n[ngg src="galleries" ids="18" display="basic_thumbn
 ail" thumbnail_crop="0"]&nbsp\;\n\n&nbsp\;
ATTACH;FMTTYPE=image/jpeg:https://i0.wp.com/www.foto-stadel.de/wp-content/
 uploads/2019/11/EP_EOS5D-MK4-20191122_019-scaled.jpg?fit=2560%2C1720&ssl=1
CATEGORIES:Blitzlicht Allgäu - TfP-Eventkalender
LOCATION:Gasthof Löwen Sonthofen\, Hindelanger Str. 1\, Sonthofen\, Bayern
 \, 87527\, Oberallgäu\, Deutschland
X-APPLE-STRUCTURED-LOCATION;VALUE=URI;X-ADDRESS=Hindelanger Str. 1\, Sontho
 fen\, Bayern\, 87527\, Oberallgäu\, Deutschland;X-APPLE-RADIUS=100;X-TITL
 E=Gasthof Löwen Sonthofen:geo:0,0
END:VEVENT
BEGIN:VEVENT
UID:6@foto-stadel.de
DTSTART;TZID=Europe/Berlin:20200718T190000
DTEND;TZID=Europe/Berlin:20200718T230000
DTSTAMP:20200715T181857Z
URL:https://www.foto-stadel.de/events/3-blitzlicht-allgaeu-gruppentreffen-
 by-foto-stadel/
SUMMARY:3. Blitzlicht Allgäu Gruppentreffen by Foto-Stadel
DESCRIPTION:Wahnsinn wie die Zeit vergeht....\n\n... da wir unser Gruppentr
 effen im März auf Grund des Corona-Virus nicht durchführen konnten werde
 n wir dies jetzt nachholen \;-)\nDie Corona-Beschränkungen wurden für Ve
 rsammlungen jetzt wieder gelockert und so können und dürfen wir unser 3.
 Gruppentreffen jetzt\, wenn auch mit Auflagen\, durchführen!\n\nZum heuti
 gen Stand können wir uns mit max. 20 Leuten (Auf Grund der Abstandsregeln
  und dem verfügbaren Platz im Brauerei-Gasthof Hirsch) treffen\, daß hei
 sst die verfügbaren und somit buchbaren Plätze sind im Moment auf 20 beg
 renzt!\n\nSollte sich das in den nächsten Wochen ändern stehen natürlic
 h automatisch mehr buchbare Plätze zur Verfügung...\n\nDavon wollen wir 
 uns aber nicht abschrecken lassen...\n\n... das wichtigste ist einen nette
 n Abend mit tollen Menschen zu verbringen und sich ein wenig über Fotogra
 fie auszutauschen.\n\nNatürlich steht wie immer der Spaß im Vordergrund 
 - es geht hier also in keinster Weise um Theorie und wer das schönste Bil
 d geschossen hat - es geht wie immer darum sich mal zu treffen\, nette Ges
 präche zu führen\, wer Lust hat kann was essen und meistens entstehen sp
 ontan ein paar Bilder frei nach unserem Motto\n"...weil fotografieren Spa
 ß machen soll..."\n\nWir würden uns also sehr freuen wenn Du Dich anmeld
 est und dabei bist!\n\nDein Foto-Stadel Team\n\n[ngg src="random_images" d
 isplay="basic_thumbnail" thumbnail_crop="0" maximum_entity_count="18"]
CATEGORIES:Blitzlicht Allgäu - TfP-Eventkalender
LOCATION:Brauereigasthof Hirsch Sonthofen\, Hirschstraße 2\, Sonthofen\, B
 ayern\, 87527\, Oberallgäu\, Deutschland
X-APPLE-STRUCTURED-LOCATION;VALUE=URI;X-ADDRESS=Hirschstraße 2\, Sonthofen
 \, Bayern\, 87527\, Oberallgäu\, Deutschland;X-APPLE-RADIUS=100;X-TITLE=B
 rauereigasthof Hirsch Sonthofen:geo:0,0
END:VEVENT
BEGIN:VEVENT
UID:7@foto-stadel.de
DTSTART;TZID=Europe/Berlin:20200816T100000
DTEND;TZID=Europe/Berlin:20200816T200000
DTSTAMP:20200727T201926Z
URL:https://www.foto-stadel.de/events/foto-stadel-grillfest-2020/
SUMMARY:Foto-Stadel Grillfest 2020
DESCRIPTION:Hallo Zusammen\,\nnach unserem 3. Gruppentreffen bei dem sooooo
  viele nette Menschen zusammengekommen sind haben wir uns überlegt was k
 önnen wir tun damit die Zeit bis zum nächsten Gruppentreffen nicht so la
 ng ist???\n\nWir wollen zusammen Grillen \;-)\n&nbsp\;&nbsp\;\n... und das
  nicht irgendwo sondern im Burghof der Burgruine Laubenbergstein\n(bei sch
 lechtem Wetter ziehen wir um)\nGeplant ist das ganze nicht nur als reines 
 Grillfest sondern wie es sich für eine Foto Gruppe gehört natürlich mit
  ein wenig Fotografie um die Burg herum...\nEs wäre also schön wenn Mode
 ls und Fotografen Lust auf einen netten Tag unter netten Leuten haben...\n
 Der Grill sowie Bierbänke sind vorhanden jedoch ist es für uns schwierig
  abzuschätzen was jeder essen und trinken möchte\, darum sollte diesen T
 eil jeder für sich planen.\nWir würden uns sehr freuen wenn Du dabei wä
 rst!\nDie Plätze sind (nicht wegen Corona) jedoch auf 15 begrenzt also ni
 cht zu lange warten \;-)\nViele Grüße\nEuer Stadel Team\n&nbsp\;\n\n[ngg
  src="albums" ids="7" display="basic_compact_album"]
ATTACH;FMTTYPE=image/jpeg:https://i0.wp.com/www.foto-stadel.de/wp-content/
 uploads/2020/07/EOS-6D_0390-26-scaled.jpg?fit=2560%2C1707&ssl=1
CATEGORIES:Blitzlicht Allgäu - TfP-Eventkalender
LOCATION:Burg Laubenbergstein\, Burg Laubenbergstein\, Immenstadt\, Bayern\
 , 87509\, Allgäu\, Deutschland
X-APPLE-STRUCTURED-LOCATION;VALUE=URI;X-ADDRESS=Burg Laubenbergstein\, Imme
 nstadt\, Bayern\, 87509\, Allgäu\, Deutschland;X-APPLE-RADIUS=100;X-TITLE
 =Burg Laubenbergstein:geo:0,0
END:VEVENT
BEGIN:VEVENT
UID:8@foto-stadel.de
DTSTART;TZID=Europe/Berlin:20200918T183000
DTEND;TZID=Europe/Berlin:20200918T233000
DTSTAMP:20200917T184659Z
URL:https://www.foto-stadel.de/events/4-blitzlicht-allgaeu-gruppentreffen-
 by-foto-stadel/
SUMMARY:4. Blitzlicht Allgäu Gruppentreffen by Foto-Stadel
DESCRIPTION:.... wie doch die Zeit vergeht....\nUns ist es\, als wäre es e
 rst gestern gewesen aber unser 3. Gruppentreffen ist schon wieder eine gan
 ze Weile her....\numso mehr freut es uns\, dass wir für den 18.09.2020&nb
 sp\;einen Platz im Gasthof-Traube in Sonthofen bekommen haben.\n(also auf 
 den Tag genau zwei Monate nach unserem letzten Treffen)\nDer Saal ist dort
  groß genug um alle im Moment gültigen Abstandsregeln einzuhalten und de
 nnoch Platz für max. 50 Teilnehmer zu bieten!\n&nbsp\;\nEs sind also gen
 ügend Plätze für Fotografen\, Models und Make-Up Artist und auch deren 
 Anhang verfügbar und wir freuen uns auf jeden einzelnen von Euch!\n\nAuf 
 diejenigen die unsere Treffen immer treu besuchen und natürlich auch auf 
 neue Gesichter die Spaß am Thema Fotografie haben.\nWir möchten auch die
 smal wie gewohnt KEIN Thema vorgeben...\nEs geht nicht um das Beste Foto o
 der Preise!!!\n.... es geht wie immer darum zusammen zu sitzen\, zu essen\
 , zu reden\, sich kennen zu lernen\, Termine auszumachen und vielleicht au
 ch das eine oder andere Foto zu machen\n"...weil fotografieren Spaß mache
 n soll..."\nWir würden uns also sehr freuen wenn Du Dich anmeldest und da
 bei bist!\nDein Foto-Stadel Team\n\nWICHTIG*** Jeder Teilnehmer muss sich 
 einzeln anmelden (Kontaktdaten für den Gastwirt auf Grund der behördlich
 en Corona Auflagen) ***WICHTIG\n[ngg src="albums" ids="7" display="basic_c
 ompact_album"]
ATTACH;FMTTYPE=image/jpeg:https://i0.wp.com/www.foto-stadel.de/wp-content/
 uploads/2020/08/traube-reserviert.png?fit=946%2C800&ssl=1
CATEGORIES:Blitzlicht Allgäu - TfP-Eventkalender
LOCATION:Gasthof Traube Sonthofen\, Grüntenstraße 11\, Sonthofen\, Bayern
 \, 87527\, Oberallgäu\, Deutschland
X-APPLE-STRUCTURED-LOCATION;VALUE=URI;X-ADDRESS=Grüntenstraße 11\, Sontho
 fen\, Bayern\, 87527\, Oberallgäu\, Deutschland;X-APPLE-RADIUS=100;X-TITL
 E=Gasthof Traube Sonthofen:geo:0,0
END:VEVENT
BEGIN:VTIMEZONE
TZID:Europe/Berlin
X-LIC-LOCATION:Europe/Berlin
BEGIN:STANDARD
DTSTART:20191027T020000
TZOFFSETFROM:+0200
TZOFFSETTO:+0100
TZNAME:CET
END:STANDARD
BEGIN:DAYLIGHT
DTSTART:20200329T030000
TZOFFSETFROM:+0100
TZOFFSETTO:+0200
TZNAME:CEST
END:DAYLIGHT
END:VTIMEZONE
END:VCALENDAR